BEGIN:VCALENDAR
VERSION:2.0
PRODID:-//Nesma New England Spring &amp; Metalstamping Association - ECPv6.15.20//NONSGML v1.0//EN
CALSCALE:GREGORIAN
METHOD:PUBLISH
X-ORIGINAL-URL:https://www.nesma-usa.com
X-WR-CALDESC:Events for Nesma New England Spring &amp; Metalstamping Association
REFRESH-INTERVAL;VALUE=DURATION:PT1H
X-Robots-Tag:noindex
X-PUBLISHED-TTL:PT1H
BEGIN:VTIMEZONE
TZID:America/New_York
BEGIN:DAYLIGHT
TZOFFSETFROM:-0500
TZOFFSETTO:-0400
TZNAME:EDT
DTSTART:20250309T070000
END:DAYLIGHT
BEGIN:STANDARD
TZOFFSETFROM:-0400
TZOFFSETTO:-0500
TZNAME:EST
DTSTART:20251102T060000
END:STANDARD
BEGIN:DAYLIGHT
TZOFFSETFROM:-0500
TZOFFSETTO:-0400
TZNAME:EDT
DTSTART:20260308T070000
END:DAYLIGHT
BEGIN:STANDARD
TZOFFSETFROM:-0400
TZOFFSETTO:-0500
TZNAME:EST
DTSTART:20261101T060000
END:STANDARD
BEGIN:DAYLIGHT
TZOFFSETFROM:-0500
TZOFFSETTO:-0400
TZNAME:EDT
DTSTART:20270314T070000
END:DAYLIGHT
BEGIN:STANDARD
TZOFFSETFROM:-0400
TZOFFSETTO:-0500
TZNAME:EST
DTSTART:20271107T060000
END:STANDARD
END:VTIMEZONE
BEGIN:VEVENT
DTSTART;TZID=America/New_York:20260324T160000
DTEND;TZID=America/New_York:20260324T210000
DTSTAMP:20260419T130841
CREATED:20260109T172123Z
LAST-MODIFIED:20260317T140417Z
UID:13311-1774368000-1774386000@www.nesma-usa.com
SUMMARY:2026 Tabletop Vendors Show
DESCRIPTION:2026 Tabletop Vendors Show & Trivia Game Night Sponsored by\n\nOn March 24th join us for the NESMA Tabletop Tradeshow & Trivia Game Night @Clocktown Brewing Co. in Thomaston\, CT\nNESMA invites you to an evening of networking\, fun\, and friendly competition at the NESMA Tabletop Tradeshow & Trivia Game Night at Clocktown Brewing Co. in Thomaston\, CT! \nStart by connecting with industry peers at our tabletop tradeshow\, reserve a vendor table to showcase your company\, or become an event sponsor and help support NESMA scholarship funds. It’s a great way to gain visibility while giving back. \nAfter the tradeshow\, stick around for a high-energy Trivia Game Night where you can test your knowledge\, compete with friends\, and enjoy a relaxed\, social atmosphere. \nWhile you’re there\, treat yourself to delicious wood-fired pizza\, along with exceptional craft beer and drinks brewed on site. \nWhether you’re exhibiting\, sponsoring\, or just coming to attend and have a great time\, this is an event you won’t want to miss! \nRESERVE VENDOR TABLE\n\nBUY ATTENDEE TICKETS\n\nAvailable sponsors:\nPizza Sponsor: Your company logo displayed on all attendees tables – $500\nRaffle Sponsor: Your company logo displayed on the raffle table and announcement during raffle ceremony – $350 \nBECOME A SPONSOR
URL:https://www.nesma-usa.com/event/2026-tabletop-vendors-show/
LOCATION:Clock Town Brewing Company\, 135 S Main St # 3\, Thomaston\, CT\, 06787
CATEGORIES:NESMA EVENTS
ATTACH;FMTTYPE=image/jpeg:https://www.nesma-usa.com/wp-content/uploads/2026/01/REG-OPEN-TABLETOP-2026.jpg
ORGANIZER;CN="NESMA":MAILTO:info@nesma-usa.com
END:VEVENT
BEGIN:VEVENT
DTSTART;TZID=America/New_York:20260512T180000
DTEND;TZID=America/New_York:20260512T220000
DTSTAMP:20260419T130841
CREATED:20260109T170037Z
LAST-MODIFIED:20260416T145618Z
UID:13304-1778608800-1778623200@www.nesma-usa.com
SUMMARY:6th Yard Goats Game Night Out
DESCRIPTION:Join us for the 6th Annual Yard Goats Game Night Out!\nThe 6th Yard Goats Game Night Out is back on May 12 at Dunkin’ Park—and we can’t wait to see you there!\nGet ready for an exciting evening filled with baseball\, great conversations\, and a strong sense of community. It’s the perfect mix of fun and connection in the heart of Hartford!\nWe’ll all gather on the reserved Yuengling Party Deck\, where food and drinks will be served and best of all\, they’re included with your ticket!\nAnd here’s the highlight…everyone who joins gets the unforgettable opportunity to step onto the field and help hold the giant American flag during the national anthem!\nWe truly hope you’ll join us for this special night at the ballpark! \nTickets are just $35 per person\, grab yours and be part of the excitement!\nPlease consider becoming a sponsor and support NESMA’s scholarship program!\nGET TICKETS!\n\nAvailable Sponsorships:\nGolden Glove Sponsor ($1\,500)\nIncludes: \n\n4 tickets to the ball game\nThrowing of the first pitch of the game\nVideo interview to be posted on NESMA social media and website gallery\nCompany logo recognition on Party Deck tables\nCompany logo displayed on the NESMA homepage and newsletter\nPossibility to display promotional items and materials on communal table\n\nSilver Slugger Sponsor ($1\,000)\nIncludes: \n\n2 tickets to the ball game\nCompany logo recognition on Party Deck tables\nCompany logo displayed on the NESMA homepage and newsletter\nPossibility to display promotional items and materials on communal table\n\nBronze Bat Sponsor ($750)\nIncludes: \n\n1 ticket to the ball game\nCompany logo recognition on Party Deck tables\nCompany logo displayed on the NESMA homepage and newsletter\nPossibility to display promotional items and materials on communal table\n\nCurveball Sponsor ($250)\nIncludes: \n\nSponsor recognition on Party Deck\nCompany logo displayed on the event page of the NESMA website\n\n 
URL:https://www.nesma-usa.com/event/6th-yard-goats-game-night-out/
LOCATION:Dunkin’ Park\, 1214 Main St\, Hartford\, CT 06103
CATEGORIES:NESMA EVENTS
ATTACH;FMTTYPE=image/jpeg:https://www.nesma-usa.com/wp-content/uploads/2026/01/save-the-date-yard-goats-2026.jpg
ORGANIZER;CN="NESMA":MAILTO:info@nesma-usa.com
END:VEVENT
END:VCALENDAR