BEGIN:VCALENDAR
VERSION:2.0
PRODID:-//Nesma New England Spring &amp; Metalstamping Association - ECPv6.15.20//NONSGML v1.0//EN
CALSCALE:GREGORIAN
METHOD:PUBLISH
X-ORIGINAL-URL:https://www.nesma-usa.com
X-WR-CALDESC:Events for Nesma New England Spring &amp; Metalstamping Association
REFRESH-INTERVAL;VALUE=DURATION:PT1H
X-Robots-Tag:noindex
X-PUBLISHED-TTL:PT1H
BEGIN:VTIMEZONE
TZID:America/New_York
BEGIN:DAYLIGHT
TZOFFSETFROM:-0500
TZOFFSETTO:-0400
TZNAME:EDT
DTSTART:20240310T070000
END:DAYLIGHT
BEGIN:STANDARD
TZOFFSETFROM:-0400
TZOFFSETTO:-0500
TZNAME:EST
DTSTART:20241103T060000
END:STANDARD
BEGIN:DAYLIGHT
TZOFFSETFROM:-0500
TZOFFSETTO:-0400
TZNAME:EDT
DTSTART:20250309T070000
END:DAYLIGHT
BEGIN:STANDARD
TZOFFSETFROM:-0400
TZOFFSETTO:-0500
TZNAME:EST
DTSTART:20251102T060000
END:STANDARD
BEGIN:DAYLIGHT
TZOFFSETFROM:-0500
TZOFFSETTO:-0400
TZNAME:EDT
DTSTART:20260308T070000
END:DAYLIGHT
BEGIN:STANDARD
TZOFFSETFROM:-0400
TZOFFSETTO:-0500
TZNAME:EST
DTSTART:20261101T060000
END:STANDARD
BEGIN:DAYLIGHT
TZOFFSETFROM:-0500
TZOFFSETTO:-0400
TZNAME:EDT
DTSTART:20270314T070000
END:DAYLIGHT
BEGIN:STANDARD
TZOFFSETFROM:-0400
TZOFFSETTO:-0500
TZNAME:EST
DTSTART:20271107T060000
END:STANDARD
END:VTIMEZONE
BEGIN:VEVENT
DTSTART;TZID=America/New_York:20251030T130000
DTEND;TZID=America/New_York:20251030T170000
DTSTAMP:20260419T205053
CREATED:20250711T185908Z
LAST-MODIFIED:20251003T111029Z
UID:12530-1761829200-1761843600@www.nesma-usa.com
SUMMARY:Aerospace Alley Careers Roadshow
DESCRIPTION:Join the ACM’s Aerospace Alley® Tradeshow on October 30\, 2025\nDiscover the fastest route to the specialized aerospace components and assemblies you need.\n100+ top suppliers all in one place\, all in one afternoon\n\n\n\n\n\n\n\n\n\n\n\n\n\n\n\n\n\nSee for yourself why this region is the global hub for aerospace manufacturing — thanks to a highly skilled and highly productive workforce\, a strategic location\, a collaborative spirit of innovation and a close-knit network of suppliers committed to unsurpassed quality and on-time deliveries. \nFor more details & Registrations CLICK HERE
URL:https://www.nesma-usa.com/event/aerospace-alley-careers-roadshow/
LOCATION:Connecticut Convention Center\, 100 Columbus Boulevard\, Hartford\, CT\, 06103
CATEGORIES:Industry Events
ATTACH;FMTTYPE=image/jpeg:https://www.nesma-usa.com/wp-content/uploads/2025/07/world-aerospace-alley-tradeshow-2025.jpg
END:VEVENT
BEGIN:VEVENT
DTSTART;TZID=America/New_York:20251113T140000
DTEND;TZID=America/New_York:20251113T150000
DTSTAMP:20260419T205053
CREATED:20251110T013632Z
LAST-MODIFIED:20251113T181922Z
UID:12904-1763042400-1763046000@www.nesma-usa.com
SUMMARY:Artificial Intelligence (AI): Implications for Technical Training
DESCRIPTION:Free Webinar: Artificial Intelligence (AI): Implications for Technical Training\nJoin us for a free webinar about Artificial Intelligence and its impact on technical training. \nExplore the intersection of AI and technical education—understand how artificial intelligence is transforming instructional design\, delivery\, and workforce skill development. This webinar will highlight applied AI methodologies and evidence-based research driving the evolution of technical training. \nFeatured speakers: Dr. Amy Thompson currently serves as the Chief Technology Officer (CTO) for the Connecticut Center for Advanced Technology (CCAT) and Dr. Michael Gendron is Chair of the Management Information Systems program at Central Connecticut State University (CCSU). \n \n 
URL:https://www.nesma-usa.com/event/artificial-intelligence-ai-implications-for-technical-training/
LOCATION:Webinar
CATEGORIES:Industry Events
ATTACH;FMTTYPE=image/jpeg:https://www.nesma-usa.com/wp-content/uploads/2025/11/artificial-intelligence-free-webinar-nov-2025-featured.jpg
END:VEVENT
BEGIN:VEVENT
DTSTART;TZID=America/New_York:20251119T100000
DTEND;TZID=America/New_York:20251119T120000
DTSTAMP:20260419T205053
CREATED:20251003T114054Z
LAST-MODIFIED:20251003T114054Z
UID:12814-1763546400-1763553600@www.nesma-usa.com
SUMMARY:Internship Fair Advanced Manufacturing Students
DESCRIPTION:Come meet students from the Advanced Manufacturing Technology Program.\nGreat opportunity to interact and interview students for internship starting in February 2026.\nWe are looking for Manufacturers that are willing to setup tables free of charge and interview students for the upcoming spring semester. \nWednesday\,November 19 from 10am to 12pm \nContact Sharon C. Lutkus\, Director of AMTC\nsharon.lutkus@ctstate.edu
URL:https://www.nesma-usa.com/event/internship-fair-advanced-manufacturing-students-2/
LOCATION:Naugatuck Valley Community College
CATEGORIES:Industry Events
ATTACH;FMTTYPE=image/jpeg:https://www.nesma-usa.com/wp-content/uploads/2025/10/naugatuk-valley-community-college-internship-fair-2025.jpg
END:VEVENT
BEGIN:VEVENT
DTSTART;TZID=America/New_York:20251120T103000
DTEND;TZID=America/New_York:20251120T123000
DTSTAMP:20260419T205053
CREATED:20251105T180220Z
LAST-MODIFIED:20251118T211230Z
UID:12890-1763634600-1763641800@www.nesma-usa.com
SUMMARY:Pensa Lab Live Demo Event
DESCRIPTION:Experience the Future of Wire Forming Technology\n@MASC Center\, Waterbury\, CT – 10.30am to 12.30pm\nNESMA\, in collaboration with PENSA Labs\, invites you to an exclusive live demo showcasing Automated CNC Wire Formers in action. \nDiscover how advanced automation is reshaping precision manufacturing — from speed and flexibility to unmatched accuracy. \n\nLive demonstrations\nNetworking with industry professionals\nInsights into next-generation manufacturing technology\n\nDon’t miss this exciting opportunity to see innovation at work and connect with regional manufacturers and engineers!
URL:https://www.nesma-usa.com/event/pensa-lab-live-demo-event/
LOCATION:MASC\, 173 Interstate Lane\, Waterbury\, CT\, 06705
CATEGORIES:Industry Events
ATTACH;FMTTYPE=image/jpeg:https://www.nesma-usa.com/wp-content/uploads/2025/11/pensa-flyer-2025-flyer-featured.jpg
ORGANIZER;CN="NESMA":MAILTO:info@nesma-usa.com
END:VEVENT
BEGIN:VEVENT
DTSTART;TZID=America/New_York:20260108T160000
DTEND;TZID=America/New_York:20260108T180000
DTSTAMP:20260419T205053
CREATED:20251217T192437Z
LAST-MODIFIED:20251217T192437Z
UID:13238-1767888000-1767895200@www.nesma-usa.com
SUMMARY:Manufacturing Celebration of Innovation 2026
DESCRIPTION:Showcasing the 2025 Coolest Thing Made in Connecticut Competition!\n\n\n\nExplore the Coolest Thing Made in CT exhibit\, celebrate the ingenuity of Connecticut manufacturers\, and connect with industry professionals in the dynamic settings of the Invention Dimension and Exploring Space exhibits. \nEnjoy passed appetizers and refreshing drinks while fostering meaningful connections with fellow manufacturing professionals. Don’t miss this opportunity to build relationships\, learn about the latest industry trends\, and discover the extraordinary accomplishments of Connecticut’s manufacturing sector. \nSponsored by Citrin Cooperman and presented by CONNSTEP and the CBIA Manufacturing Coalition. \nClick here to register
URL:https://www.nesma-usa.com/event/manufacturing-celebration-of-innovation-2026/
LOCATION:CT Science Center\, 250 Columbus Blvd\, Hartford\, CT\, 06103
CATEGORIES:Industry Events
ATTACH;FMTTYPE=image/jpeg:https://www.nesma-usa.com/wp-content/uploads/2025/12/manufacturing-celebration-of-innovation-2026.jpg
END:VEVENT
BEGIN:VEVENT
DTSTART;TZID=America/New_York:20260206T130000
DTEND;TZID=America/New_York:20260206T160000
DTSTAMP:20260419T205053
CREATED:20260130T034249Z
LAST-MODIFIED:20260130T034821Z
UID:13340-1770382800-1770393600@www.nesma-usa.com
SUMMARY:The Hartford Job Fair at MakerspaceCT
DESCRIPTION:THE HARTFORD JOB FAIR\nFriday\, February 6th – 1PM – 4PM\n@MAKERSPACECT – 36 Talcott Street\, Hartford\, CT\nOPPORTUNITY FOR NESMA MEMBERS TO BE A VENDOR AT THE HARTFORD JOB FAIR\nREGISTER HERE
URL:https://www.nesma-usa.com/event/the-hartford-job-fair-at-makerspacect/
LOCATION:CT
CATEGORIES:Industry Events
ATTACH;FMTTYPE=image/jpeg:https://www.nesma-usa.com/wp-content/uploads/2026/01/hartford-job-fair-at-makerspace-featured.jpg
END:VEVENT
BEGIN:VEVENT
DTSTART;TZID=America/New_York:20260305T090000
DTEND;TZID=America/New_York:20260305T160000
DTSTAMP:20260419T205053
CREATED:20251217T193649Z
LAST-MODIFIED:20251217T193649Z
UID:13242-1772701200-1772726400@www.nesma-usa.com
SUMMARY:Connecticut Business Matchmaker
DESCRIPTION:The CT Business Matchmaker is a high-impact networking event designed to connect businesses with government buyers and prime contractors to strengthen our national/local supply chains and open opportunities of procurement for CT businesses. \nOne-on-one prescheduled matchmaking meetings are at the heart of the CT Business Matchmaker. Businesses will have an opportunity to meet one-on-one with buyers from federal\, state and local agencies as well as prime contractors. \nThe event will also include a dynamic networking Business Expo featuring key resource providers\, lenders\, prime contractors and government agencies. In addition to a full day of training sessions facilitated by SBA employees\, resource partners and contracting experts. \nThe SBA is committed to opening the doors of procurement so more businesses can grow and thrive by doing business with the federal government – the world’s largest customer who buys all types of products and services. \nREGISTER ONLINE \nContact:\nSBA Connecticut District Office\nTanisha Baptiste-Bynum\, Lead OMS\nInfo@CTBusinessmatchmaker.com
URL:https://www.nesma-usa.com/event/connecticut-business-matchmaker/
LOCATION:Connecticut Convention Center\, 100 Columbus Boulevard\, Hartford\, CT\, 06103
CATEGORIES:Industry Events
ATTACH;FMTTYPE=image/jpeg:https://www.nesma-usa.com/wp-content/uploads/2025/12/ct-business-matchmaker-2026.jpg
END:VEVENT
BEGIN:VEVENT
DTSTART;TZID=America/New_York:20260331T150000
DTEND;TZID=America/New_York:20260331T180000
DTSTAMP:20260419T205053
CREATED:20260303T174907Z
LAST-MODIFIED:20260303T175452Z
UID:13370-1774969200-1774980000@www.nesma-usa.com
SUMMARY:5th CT Manufacturing Engineering & Technology Career Fair
DESCRIPTION:Join us for the 2026 Connecticut Manufacturing & Technology Career Fair—Connecticut’s premier manufacturing and technology career event\, connecting students\, jobseekers\, and employers from across the state. \n‍Who Should Attend\nEmployers\nMeet motivated\, well-prepared candidates for full-time\, internship\, and apprenticeship roles. Strengthen your talent pipeline and help keep Connecticut’s skilled workforce in-state. \nCollege Students & Recent Graduates\nConnect with leading Connecticut manufacturing and technology employers. Last year\, more than 70 companies participated\, including Legrand\, ebm-papst\, The Lee Company\, Triumph\, TRUMPF\, Pursuit Aerospace\, and General Dynamics Electric Boat. \nTransportation provided: Buses will run to and from many college campuses statewide. \nHigh School Students & Families\nExplore high-paying\, in-demand careers in manufacturing\, engineering\, and technology. No registration required. \nJob Seekers\nMeet multiple employers in one place and grow your professional network. \n‍Event Details\nLocation: Quinnipiac University\, M&T Bank Arena\n305 Sherman Ave\, Hamden\, CT \nCost: Free for all employers and attendees. \nSponsored by: Connecticut’s Manufacturing Internship Program\, powered by CCAT\, with funding from the Department of Economic and Community Development. \nQuestions? Email CTMETFair@quinnipiac.edu \n‍Register\nEmployers: Register here\nCollege Students: Register here
URL:https://www.nesma-usa.com/event/5th-ct-manufacturing-engineering-technology-career-fair/
LOCATION:Quinnipiac University M&T Bank Arena\, 305 Sherman Avenue\, Hamden\, CT\, 06518
CATEGORIES:Industry Events
ATTACH;FMTTYPE=image/jpeg:https://www.nesma-usa.com/wp-content/uploads/2026/03/5th-annula-manufacturing-carerr-fair-quinnipiac-universirty.jpg
END:VEVENT
BEGIN:VEVENT
DTSTART;TZID=America/New_York:20260423T080000
DTEND;TZID=America/New_York:20260423T143000
DTSTAMP:20260419T205053
CREATED:20260306T184242Z
LAST-MODIFIED:20260311T183109Z
UID:13387-1776931200-1776954600@www.nesma-usa.com
SUMMARY:Manufacturer Connection Fair @CT State Capitol Lobby
DESCRIPTION:Manufacturer Connection Fair and Collega Career/Internship Fair @Connecticut State Capitol Lobby on April 23.\nCLICK HERE to register.
URL:https://www.nesma-usa.com/event/manufacturer-connection-fair/
LOCATION:CT Sate Capitol Building\, 210 Capitol Avenue\, Hartford\, CT\, 06106
CATEGORIES:Industry Events
ATTACH;FMTTYPE=image/jpeg:https://www.nesma-usa.com/wp-content/uploads/2026/03/manufacturer-connection-fair-2026.jpg
END:VEVENT
BEGIN:VEVENT
DTSTART;TZID=America/New_York:20260506T123000
DTEND;TZID=America/New_York:20260506T150000
DTSTAMP:20260419T205053
CREATED:20260410T133150Z
LAST-MODIFIED:20260410T133150Z
UID:13668-1778070600-1778079600@www.nesma-usa.com
SUMMARY:Quinnipiac 10th Anniversary of the School of Computing & Engineering
DESCRIPTION:We hope you’ll join us for our annual Projects Day where we celebrate the hard work of our graduating seniors and their capstone projects & papers. \nThe Projects Day poster presentations will take place from 1:00 PM to 3:00 PM on Wednesday\, May 6 in the CCE Building on the QU Mount Carmel Campus; it is a drop-in event where you can attend at your own pace within that timeframe. \nPlease join the Opening Reception with friends and project sponsors for light refreshments and brief remarks starting at 12:30 PM. \nRSVP to merisa.suljic@quinnipiac.edu or by clicking the button below\, and be sure to let us know if you plan on attending the opening reception at 12:30 PM\, or if you plan to simply visit Projects Day at some point between 1:00-3:00 PM. Want to preview the projects? Visit qu.edu/projectsday
URL:https://www.nesma-usa.com/event/quinnipiac-10th-anniversary-of-the-school-of-computing-engineering/
LOCATION:Quinnipiac – School of Computing & Engineering\, 275 Mt Carmel Avenue\, Hamden\, CT
CATEGORIES:Industry Events
ATTACH;FMTTYPE=image/jpeg:https://www.nesma-usa.com/wp-content/uploads/2026/04/quinnipiac-2026-flyer-featured.jpg
END:VEVENT
BEGIN:VEVENT
DTSTART;TZID=America/New_York:20260519T100000
DTEND;TZID=America/New_York:20260519T133000
DTSTAMP:20260419T205053
CREATED:20260410T140015Z
LAST-MODIFIED:20260410T140015Z
UID:13674-1779184800-1779197400@www.nesma-usa.com
SUMMARY:HK Metalcraft Plant Tour and 100th Anniversary Celebration
DESCRIPTION:PMA Mid-Atlantic invites you to attend a plant tour and 100-year anniversary celebration at HK Metalcraft on May 19. Join us as we celebrate 100 years of business with a prominent local family-owned manufacturer! \nLOCATION\nHK Metalcraft\, 35 Industrial Road – Lodi\, New Jersey 07644 \nAGENDA\n10:00 a.m. – Registration\nPlant Tour\nLunch & Presentation\n1:30 p.m. – Adjourn \nREGISTRATION INFORMATION \nPMA Member: $55\nNonmember: $85 \nPlease contact Cori Schubert at cschubert@eaglemetals.com if you have any questions.
URL:https://www.nesma-usa.com/event/hk-metalcraft-plant-tour-and-100th-anniversary-celebration/
LOCATION:HK Metalcraft\, 35 Industrial Road\, Lodi\, New Jersey\, 07644
CATEGORIES:Industry Events
ATTACH;FMTTYPE=image/jpeg:https://www.nesma-usa.com/wp-content/uploads/2026/04/pma-hk-metalcraft-nj.jpg
ORGANIZER;CN="PMA":MAILTO:districts@pma.org
END:VEVENT
END:VCALENDAR