BEGIN:VCALENDAR
VERSION:2.0
PRODID:-//Nesma New England Spring &amp; Metalstamping Association - ECPv6.15.20//NONSGML v1.0//EN
CALSCALE:GREGORIAN
METHOD:PUBLISH
X-ORIGINAL-URL:https://www.nesma-usa.com
X-WR-CALDESC:Events for Nesma New England Spring &amp; Metalstamping Association
REFRESH-INTERVAL;VALUE=DURATION:PT1H
X-Robots-Tag:noindex
X-PUBLISHED-TTL:PT1H
BEGIN:VTIMEZONE
TZID:America/New_York
BEGIN:DAYLIGHT
TZOFFSETFROM:-0500
TZOFFSETTO:-0400
TZNAME:EDT
DTSTART:20230312T070000
END:DAYLIGHT
BEGIN:STANDARD
TZOFFSETFROM:-0400
TZOFFSETTO:-0500
TZNAME:EST
DTSTART:20231105T060000
END:STANDARD
BEGIN:DAYLIGHT
TZOFFSETFROM:-0500
TZOFFSETTO:-0400
TZNAME:EDT
DTSTART:20240310T070000
END:DAYLIGHT
BEGIN:STANDARD
TZOFFSETFROM:-0400
TZOFFSETTO:-0500
TZNAME:EST
DTSTART:20241103T060000
END:STANDARD
BEGIN:DAYLIGHT
TZOFFSETFROM:-0500
TZOFFSETTO:-0400
TZNAME:EDT
DTSTART:20250309T070000
END:DAYLIGHT
BEGIN:STANDARD
TZOFFSETFROM:-0400
TZOFFSETTO:-0500
TZNAME:EST
DTSTART:20251102T060000
END:STANDARD
END:VTIMEZONE
BEGIN:VEVENT
DTSTART;TZID=America/New_York:20241120T110000
DTEND;TZID=America/New_York:20241120T130000
DTSTAMP:20260419T130212
CREATED:20241009T184614Z
LAST-MODIFIED:20241011T123834Z
UID:11264-1732100400-1732107600@www.nesma-usa.com
SUMMARY:Internship Fair - Advanced Manufacturing Students
DESCRIPTION:Meet students from advanced manufacturing technology program. Great opportunity to interact and interview students for potential internship starting February 2025.\nLooking for local manufactures that are willing to setup tables free of charge and interview students for internship opportunities for spring semester.
URL:https://www.nesma-usa.com/event/internship-fair-advanced-manufacturing-students/
LOCATION:Naugatuck Valley Community College
CATEGORIES:Industry Events
ATTACH;FMTTYPE=image/jpeg:https://www.nesma-usa.com/wp-content/uploads/2024/10/spring-bg-2024.jpg
END:VEVENT
END:VCALENDAR