BEGIN:VCALENDAR
VERSION:2.0
PRODID:-//Nesma New England Spring &amp; Metalstamping Association - ECPv6.15.20//NONSGML v1.0//EN
CALSCALE:GREGORIAN
METHOD:PUBLISH
X-WR-CALNAME:Nesma New England Spring &amp; Metalstamping Association
X-ORIGINAL-URL:https://www.nesma-usa.com
X-WR-CALDESC:Events for Nesma New England Spring &amp; Metalstamping Association
REFRESH-INTERVAL;VALUE=DURATION:PT1H
X-Robots-Tag:noindex
X-PUBLISHED-TTL:PT1H
BEGIN:VTIMEZONE
TZID:America/New_York
BEGIN:DAYLIGHT
TZOFFSETFROM:-0500
TZOFFSETTO:-0400
TZNAME:EDT
DTSTART:20230312T070000
END:DAYLIGHT
BEGIN:STANDARD
TZOFFSETFROM:-0400
TZOFFSETTO:-0500
TZNAME:EST
DTSTART:20231105T060000
END:STANDARD
BEGIN:DAYLIGHT
TZOFFSETFROM:-0500
TZOFFSETTO:-0400
TZNAME:EDT
DTSTART:20240310T070000
END:DAYLIGHT
BEGIN:STANDARD
TZOFFSETFROM:-0400
TZOFFSETTO:-0500
TZNAME:EST
DTSTART:20241103T060000
END:STANDARD
BEGIN:DAYLIGHT
TZOFFSETFROM:-0500
TZOFFSETTO:-0400
TZNAME:EDT
DTSTART:20250309T070000
END:DAYLIGHT
BEGIN:STANDARD
TZOFFSETFROM:-0400
TZOFFSETTO:-0500
TZNAME:EST
DTSTART:20251102T060000
END:STANDARD
END:VTIMEZONE
BEGIN:VEVENT
DTSTART;TZID=America/New_York:20240911T160000
DTEND;TZID=America/New_York:20240911T190000
DTSTAMP:20260419T160214
CREATED:20240719T175125Z
LAST-MODIFIED:20240905T185944Z
UID:10718-1726070400-1726081200@www.nesma-usa.com
SUMMARY:Beyond Salary: Creative Approaches to Employee Attraction and Retention
DESCRIPTION:!POSTPONED!\nDear NESMA colleagues\, \nI hope this message finds you well. Due to unforeseen circumstances\, we have decided to postpone the upcoming Beyond Salary Panel Discussion originally scheduled for September 11th.\nWe sincerely apologize for any inconvenience this may cause and truly appreciate your understanding. We are working to confirm a new date and will keep you informed as soon as possible.\nThank you for your continued support\, and we look forward to your participation on the rescheduled date. \nBest regards\, \nJoseph f. Pinto NPN7275240\nrisk management advisor \n35 Thorpe Avenue\, Suite 200\, Wallingford\, CT 06492\noffice 203-284-3296 | MOBILE 203-623-1105\nJoe.Pinto@imacorp.com
URL:https://www.nesma-usa.com/event/beyond-salary-creative-approaches-to-employee-attraction-and-retention/
LOCATION:Goodwin University\, 3 Pent Rd\, East Hartford\, CT\, 06118
CATEGORIES:Industry Events,NESMA EVENTS
ATTACH;FMTTYPE=image/png:https://www.nesma-usa.com/wp-content/uploads/2024/07/event-postponed-img.png
END:VEVENT
BEGIN:VEVENT
DTSTART;TZID=America/New_York:20240926T090000
DTEND;TZID=America/New_York:20240926T120000
DTSTAMP:20260419T160214
CREATED:20240508T205721Z
LAST-MODIFIED:20240904T004423Z
UID:10333-1727341200-1727352000@www.nesma-usa.com
SUMMARY:CT Manufacturing Careers Roadshow ’24 Series
DESCRIPTION:CT Manufacturing Careers Roadshow ’24 Series|\nSeptember 26 @Norwich Sea Unicorns | Dodd Stadium\, 14 Stott Avenue\, Norwich\, CT 06360 \nThe Explore Manufacturing Expo connects students (grades 7-12) with manufacturing employers in Eastern Connecticut. The event will deliver a variety of exciting career exploration opportunities to raise awareness and pique interest in the broad range of well-paying manufacturing careers. \nWhen students meet manufacturers\, good things happen!  It makes sense\, then\, to create more opportunities for that.  The Manufacturing Roadshow Series is designed to raise awareness and pique interest in the broad opportunities and well-paying\, interesting\, and modern careers now available in Connecticut manufacturing. \nRegister Here \nQuestions? Contact deb.presbie@readyct.org
URL:https://www.nesma-usa.com/event/ct-manufacturing-careers-roadshow-24-series/
LOCATION:Dodd Stadium\, 14 Stott Ave\, Norwich\, CT\, 06360
CATEGORIES:Industry Events
END:VEVENT
END:VCALENDAR